BEGIN:VCALENDAR
VERSION:2.0
PRODID:-//Stadtmusik Uster - ECPv6.15.20//NONSGML v1.0//EN
CALSCALE:GREGORIAN
METHOD:PUBLISH
X-ORIGINAL-URL:https://smuster.ch
X-WR-CALDESC:Veranstaltungen für Stadtmusik Uster
REFRESH-INTERVAL;VALUE=DURATION:PT1H
X-Robots-Tag:noindex
X-PUBLISHED-TTL:PT1H
BEGIN:VTIMEZONE
TZID:UTC
BEGIN:STANDARD
TZOFFSETFROM:+0000
TZOFFSETTO:+0000
TZNAME:UTC
DTSTART:20230101T000000
END:STANDARD
END:VTIMEZONE
BEGIN:VEVENT
DTSTART;TZID=UTC:20240618T190000
DTEND;TZID=UTC:20240618T200000
DTSTAMP:20260425T213025
CREATED:20240531T155957Z
LAST-MODIFIED:20240531T155957Z
UID:1055-1718737200-1718740800@smuster.ch
SUMMARY:Platzkonzert Spital Uster
DESCRIPTION:Verschiebedatum bei schlechtem Wetter: Dienstag\, 25. Juni 2024\, 19:00 Uhr
URL:https://smuster.ch/event/platzkonzert-spital-uster-2/
LOCATION:Spital Uster\, Brunnenstrasse 42\, Uster\, 8610\, Schweiz
END:VEVENT
BEGIN:VEVENT
DTSTART;TZID=UTC:20240622T153000
DTEND;TZID=UTC:20240622T163000
DTSTAMP:20260425T213025
CREATED:20240531T160837Z
LAST-MODIFIED:20240624T062556Z
UID:1064-1719070200-1719073800@smuster.ch
SUMMARY:Platzkonzert Bachgassfest 2024 *** abgesagt ***
DESCRIPTION:Aufgrund von schlechtem Wetter kann das Platzkonzert leider nicht durchgeführt werden.\nWeitere Informationen zum Bachgassfest 2024 finden Sie unter https://www.oberuster-nossikon.ch/bachgassfest.php.
URL:https://smuster.ch/event/platzkonzert-bachgassfest-2024/
LOCATION:Bachgassfest\, Bachgasse\, Uster\, 8610\, Schweiz
END:VEVENT
END:VCALENDAR