BEGIN:VCALENDAR
VERSION:2.0
PRODID:-//Stadtmusik Uster - ECPv6.15.20//NONSGML v1.0//EN
CALSCALE:GREGORIAN
METHOD:PUBLISH
X-ORIGINAL-URL:https://smuster.ch
X-WR-CALDESC:Veranstaltungen für Stadtmusik Uster
REFRESH-INTERVAL;VALUE=DURATION:PT1H
X-Robots-Tag:noindex
X-PUBLISHED-TTL:PT1H
BEGIN:VTIMEZONE
TZID:UTC
BEGIN:STANDARD
TZOFFSETFROM:+0000
TZOFFSETTO:+0000
TZNAME:UTC
DTSTART:20230101T000000
END:STANDARD
END:VTIMEZONE
BEGIN:VEVENT
DTSTART;TZID=UTC:20240413T200000
DTEND;TZID=UTC:20240413T223000
DTSTAMP:20260426T001223
CREATED:20230407T105343Z
LAST-MODIFIED:20230407T105343Z
UID:807-1713038400-1713047400@smuster.ch
SUMMARY:Frühlingskonzert 2024
DESCRIPTION:
URL:https://smuster.ch/event/fruehlingskonzert-2024/
LOCATION:Stadthofsaal Uster\, Theaterstrasse 1\, Uster\, 8610\, Schweiz
END:VEVENT
END:VCALENDAR