BEGIN:VCALENDAR
VERSION:2.0
PRODID:-//Stadtmusik Uster - ECPv6.15.20//NONSGML v1.0//EN
CALSCALE:GREGORIAN
METHOD:PUBLISH
X-WR-CALNAME:Stadtmusik Uster
X-ORIGINAL-URL:https://smuster.ch
X-WR-CALDESC:Veranstaltungen für Stadtmusik Uster
REFRESH-INTERVAL;VALUE=DURATION:PT1H
X-Robots-Tag:noindex
X-PUBLISHED-TTL:PT1H
BEGIN:VTIMEZONE
TZID:UTC
BEGIN:STANDARD
TZOFFSETFROM:+0000
TZOFFSETTO:+0000
TZNAME:UTC
DTSTART:20240101T000000
END:STANDARD
END:VTIMEZONE
BEGIN:VEVENT
DTSTART;TZID=UTC:20250105T160000
DTEND;TZID=UTC:20250105T180000
DTSTAMP:20260425T133607
CREATED:20241215T125051Z
LAST-MODIFIED:20241215T125051Z
UID:1155-1736092800-1736100000@smuster.ch
SUMMARY:Neujahrsempfang der Stadt Uster
DESCRIPTION:Blechbläser-Ensemble der Stadtmusik Uster
URL:https://smuster.ch/event/neujahrsempfang-der-stadt-uster-2/
LOCATION:Zeughausareal Uster
END:VEVENT
END:VCALENDAR